BEGIN:VCALENDAR
VERSION:2.0
PRODID:Imitheme.com
BEGIN:VEVENT
UID:20260420T124939-802418211
DTSTAMP;TZID=UTC:1776689379
DTSTART;TZID=America/Los_Angeles:20260420T124939
DTEND;TZID=America/Los_Angeles:20260420T124939
SUMMARY:Spannprofil-Technik & LED Schulung
LOCATION:
DESCRIPTION: Workshop über das Thema Spannprofile und LED-Technik zu den Produkten der Firma EPS Systems Du möchtest Deinen Kunden künftig Spanntuchanlagen oder Bannerrahmen anbieten und auch selbst inhouse produzieren? Dann haben wir hier die richtige Schulung für Dich. In dieser eintägigen Intensivschulung lernst du in Theorie und Praxis die richtige Anwendung und Verarbeitung von Profilsystemen für nahezu alle Arten von flexiblen Medien. Egal ob Spanntuch für großformatige Leuchtkästen, Bannerrahmen für In- oder Outdoor und Textilspannrahmen. Neben dem Zusammenbau der unterschiedlichen Rahmensysteme wird auch das faltenfreie Einspannen der Gewebe und die optimale LED-Ausleuchtung vermittelt. Dazu stehen den Teilnehmern einige Übungsrahmen zur Verfügung und können unter Anleitung mit Tüchern bespannt werden. Der Ablauf: 8:30 Uhr Theorie im Schulungsraum in Siegen Einführung/Präsentation „EPS-Spanntuchtechnik“ Vorstellung der einzelnen Profilsysteme für Lichtwerbung und Werbearchitektur 12:00 Uhr Mittagspause (Grillbuffet) 13:15 Praxis in unserer Produktion / Lager in Mudersbach: Bau von Rahmen zu jedem EPS-Outdoorsystem (u.a. große Spanntuchrahmen LUMI oder RAIL mit LED-Beleuchtung) und richtiges Spannen von Geweben 16:30 Uhr Offene Fragen, Feedbackrunde und voraussichtliches Ende Veranstaltungsort: EPS Systems KG Obere Leimbach 6 57074 Siegen Germany https://www.werbetechniker-akademie.cc/eventer/spannprofil-technik-led-schulung/
URL:https://www.werbetechniker-akademie.cc/eventer/spannprofil-technik-led-schulung/
END:VEVENT
END:VCALENDAR
