BEGIN:VCALENDAR
VERSION:2.0
PRODID:Imitheme.com
BEGIN:VEVENT
UID:20260420T152706-141940567
DTSTAMP;TZID=UTC:1776698826
DTSTART;TZID=America/Los_Angeles:20260420T152706
DTEND;TZID=America/Los_Angeles:20260420T152706
SUMMARY:Einfach veredeln mit Flock & Flex - DE
LOCATION:
DESCRIPTION: Tägliche Herausforderungen bei der Verarbeitung Individuell beschriftete Textilien sind aus keinem Anwendungsbereich der Textilveredlung wegzudenken. Der Transferdruck mit Flock- und Flexmaterialien spielt hierbei eine entscheidende Rolle. Ob Fashion, Sport-, Freizeit- oder Berufsbekleidung sowie Promotiontextilien – für jeden Einsatz gibt es das passende – und mittlerweile auch nachhaltige – Material.   Im Seminar wird in Theorie und Praxis erläutert, was Flock- und Flexfolien können, welche Produkte für welche Anwendungen geeignet sind und wo die Grenzen des Transferdrucks liegen. In praktischen Übungen lernen die Teilnehmenden den Umgang mit Schneideplotter und Transferpresse. Ein Schwerpunkt liegt dabei auf der Vorbereitung der Druck- bzw. Schneidedatei und die Verarbeitung von Transferfolien mit dem Plotter. Die Teilnehmenden erfahren, wie viel Hitze ein T-Shirt verträgt, wie entscheidend die Parameter „Druck“, „Temperatur“ und „Zeit“ für gute Ergebnisse sind und was bei Transfers auf Funktionstextilien beachtet werden muss. Darüber hinaus werden Hilfsmittel, Tipps und Tricks für die Verarbeitung vorgestellt. Mit Führung durch das Logistikzentrum des Gastgebers Hakro. Der Workshop findet statt in Kooperation mit diesen Partnern: • IVM SignTex • SEF France • Signforum24 • PSI • FDI – Fachverband der Druckindustrie und Informationsverarbeitung e.V. Ort: Logistikzentrum HAKRO GmbH Theodor-Heuss-Straße 1-5 74575 Schrozberg Deutschland zzgl. MwSt., inkl. Lunch, Snacks, Getränke, Seminarunterlagen, Teilnahmebestätigung https://www.werbetechniker-akademie.cc/eventer/einfach-veredeln-mit-flock-flex-de/
URL:https://www.werbetechniker-akademie.cc/eventer/einfach-veredeln-mit-flock-flex-de/
END:VEVENT
END:VCALENDAR
