BEGIN:VCALENDAR
VERSION:2.0
PRODID:Imitheme.com
BEGIN:VEVENT
UID:20260420T115221-236608780
DTSTAMP;TZID=UTC:1776685941
DTSTART;TZID=America/Los_Angeles:20260420T115221
DTEND;TZID=America/Los_Angeles:20260420T115221
SUMMARY:Datei zum optimalen DTF-Druck - DE
LOCATION:
DESCRIPTION: Von der Datei zum optimalen DTF-Druck, halbtägig. So gelingt ein effizienter Workflow Im Rahmen der INHOUSE² von L-Shop-Team vom 7. bis 9. März 2024. Das halbtägige Seminar widmet sich dem effizienten Workflow im DTF-Druck (Direct to Film). Der Referent Axel Stuhlreiter beleuchtet alle Aspekte rund um Hardware, Software und Verbrauchsmaterialien im praktischen Einsatz. Dabei erklärt er die Zusammenhänge von guten Druckvorlagen, Bildbearbeitung, Textilien und Verbrauchsmaterialien wie Tinten, Kleber und Folien. Weitere Aspekte des Seminars drehen sich um praktische Fragen, wie der Workflow effizient gestaltet werden kann, welche Vor- und Nachbehandlungen der Textilien erforderlich sind, welche Textilien sich am besten eignen, wie nachhaltig der DTF-Druck ist, wie die Druckprodukte im Verkauf kalkuliert werden können und weiteres mehr. Dieser Workshop richtet sich an Unternehmen aus Textilveredlung und Werbetechnik, die ihre Prozesse optimieren wollen oder Investitionen planen. Ort: Jahrhunderthalle Bochum An der Jahrhunderthalle 1 44793 Bochum Deutschland https://www.werbetechniker-akademie.cc/eventer/datei-zum-optimalen-dtf-druck-de/
URL:https://www.werbetechniker-akademie.cc/eventer/datei-zum-optimalen-dtf-druck-de/
END:VEVENT
END:VCALENDAR
