BEGIN:VCALENDAR
VERSION:2.0
PRODID:Imitheme.com
BEGIN:VEVENT
UID:20260420T113558-713144989
DTSTAMP;TZID=UTC:1776684958
DTSTART;TZID=America/Los_Angeles:20260420T113558
DTEND;TZID=America/Los_Angeles:20260420T113558
SUMMARY:Interieur & Raumkonzepte - DE
LOCATION:
DESCRIPTION: Ob gewerblicher, öffentlicher oder privater Bereich – Raumgestaltung als Ausdruck einer Botschaft oder einfach nur zur Schaffung einer angenehmen Atmosphäre liegt im Trend. Mit den Produkten der Raumzeit Sortimente bieten wir neuartige, beeindruckende Materialien zur Realisierung außergewöhnlicher Raumkonzepte. Sie sind herzlich eingeladen, im Rahmen unseres Workshops mehr darüber zu erfahren. Unser Angebot richtet sich an Vertreter der werbetechnischen Branchen. In einem kombinierten Theorie- und Praxisteil erhalten Sie von erfahrenen Experten Tipps und Tricks für den kreativen Einsatz und die richtige Verarbeitung der Raumzeit Interior Produkte. - Produktschulung aller Rubriken - Vorstellung Neuheiten RAUMZEIT Relaunch - Vorstellung der RAUMFIX Linie (Selbstklebelinie) - Steinzeit Workshop Praxis - Tipps & Tricks für die Verarbeitung der unterschiedlichen Materialien Ort: vph GmbH & Co. KG Gutenbergstr. 4 30966 Hemmingen https://www.werbetechniker-akademie.cc/eventer/interieur-raumkonzepte-schulung/
URL:https://www.werbetechniker-akademie.cc/eventer/interieur-raumkonzepte-schulung/
END:VEVENT
END:VCALENDAR
