BEGIN:VCALENDAR
VERSION:2.0
PRODID:Imitheme.com
BEGIN:VEVENT
UID:20260420T164222-2036008626
DTSTAMP;TZID=UTC:1776703342
DTSTART;TZID=America/Los_Angeles:20260420T164222
DTEND;TZID=America/Los_Angeles:20260420T164222
SUMMARY:Marken, Design & Copyright - WEB
LOCATION:
DESCRIPTION: Das Bild aus dem Internet, der Name des Nationalspielers auf dem Trikot, das Logo einer Automarke für den Verein der Motorsportfreunde – darf ich das einfach auf T-Shirts oder Tassen drucken? Es gibt unzählige Beispiele von Kundenanfragen und Druckanforderungen, die aus juristischer Sicht bedenklich sind. Ein stets aktuelles Beispiel: Für Abi-Shirts werden häufig bekannte Claims, Motive aus Filmen oder geschützte Logos verwendet und in abgewandelter Form in das Shirtmotiv integriert. Hauptsache lustig! Doch im Ernstfall kann der Druckjob böse Überraschungen nach sich ziehen. Unsere Referentin Ulrike Kargl ist Inhaberin der bekannten, auf Markenrecht spezialisierten Grinzinger Anwaltskanzlei in Wien und begleitet seit vielen Jahren Unternehmen bei der gerichtlichen und außergerichtlichen Durchsetzung von Markenrechten, Prüfung von Marken hinsichtlich ihrer Anfechtungsresistenz und insbesondere deren Absicherung durch Registrierung. Im Seminar richtet sie den Blick auf den Markt für Textilveredlung, Werbemittel sowie Werbetechnik und erklärt, was Veredler auf Textilien und andere Produkte aufbringen dürfen, wo die Grenzen sind und mit welchen rechtlichen Folgen sie bei Missachtung der Rechtslage rechnen müssen. In Kooperation mit der Fachzeitschrift Stickstoff. Ort: ONLINE https://www.werbetechniker-akademie.cc/eventer/marken-design-copyright-de/
URL:https://www.werbetechniker-akademie.cc/eventer/marken-design-copyright-de/
END:VEVENT
END:VCALENDAR
