BEGIN:VCALENDAR
VERSION:2.0
PRODID:Imitheme.com
BEGIN:VEVENT
UID:20260421T122452-2086272912
DTSTAMP;TZID=UTC:1776774292
DTSTART;TZID=America/Los_Angeles:20260421T122452
DTEND;TZID=America/Los_Angeles:20260421T122452
SUMMARY:Workshop: Sticken in der Praxis, 2-tägig - AT
LOCATION:
DESCRIPTION: Know-how für professionelle Sticker Das 2-tägige Fachseminar vermittelt Stickerei-Kenntnisse in Theorie und Praxis. Dazu zählen unter anderem die Materialkunde und Kenntnisse über Stoffarten, Vliese sowie Nadeln. Der Referent erklärt Fachausdrücke und ihre Bedeutung, zeigt das richtige Einfädeln von Garnen, die richtige Positionierung einer Stickerei und das korrekte Einspannen mit unterschiedlichen Rahmenarten und –typen sowie mit Einspannhilfen. Weitere Themen sind die korrekte Einstellung der Fadenspannung beim Ober- und Unterfaden, das Sticken von Applikationen, Abzeichen und 3D Stickerei sowie Nacharbeiten von Stickereien. Außerdem erfahren die Teilnehmer diverse Speziallösungen, wie sie ihre Stickmaschine warten, kleine Reparaturen selbst vornehmen und Informationen rund um die Stickerei beschaffen können. Ort: Girardelli Druck und Stick, Ebbs (Tirol) Eichelwang 13a 6341 Ebbs Österreich Preis inkl. Lunch, Snacks, Getränke, Teilnahmebestätigung https://www.werbetechniker-akademie.cc/eventer/workshop-sticken-in-der-praxis-2-taegig-at/
URL:https://www.werbetechniker-akademie.cc/eventer/workshop-sticken-in-der-praxis-2-taegig-at/
END:VEVENT
END:VCALENDAR
