BEGIN:VCALENDAR
VERSION:2.0
PRODID:Imitheme.com
BEGIN:VEVENT
UID:20260420T153559-318971046
DTSTAMP;TZID=UTC:1776699359
DTSTART;TZID=America/Los_Angeles:20260420T153559
DTEND;TZID=America/Los_Angeles:20260420T153559
SUMMARY:Flachglas Schulung DE
LOCATION:
DESCRIPTION: 1-Tages-Seminar Termin 3M Building Window Film Training Ort: Folienprofi, Industriestraße 6, 82110 Germering Preis/Person: € 179,– exkl. MwSt., Die werbetechniker.cc GmbH & 3M laden Sie herzlich zu einem eintägigen 3M Building Window Film Training ein. Es erwarten Sie theoretische und praktische Inhalte zum Thema Gebäude Window Film sowie Sicherheits- und Splitterschutzfolien.  Sie erhalten einen Einblick in das 3M Produktportfolio des Bereiches und lernen unter Anleitung unseres erfahrenen, zertifizierten Trainers Harry Schenker die Handhabung der Materialien kennen. Trainingsablauf - vormittags Theorie, nachmittags praktische Demo Geschultes Foliensortiment - 3M™ Prestige - 3M™ Silver Series - 3M™ Standard Splitterschutzfolien Folgende spannende Inhalte erwarten Sie: - Folientechnologie der Building Window Films - Technische Spezifikationen - Auswahl bzw. Verwendung der richtigen Folie (Portfolio) - Grundlagen der Bauphysik - Glaskunde und Glas-Stress-Analyse - Verkaufsargumente und -strategie - Empfohlene Werkzeuge - Richtige Vorbereitung und Reinigung des Substrates - Zuschnitt und Vorbereitung - Fehlerfreie Verklebung ohne Blasen, Falten usw. - Hinweise zur Angebotskalkulation einer Sonnenschutzfolienverlegung - Reklamationsvermeidung und -beurteilung - Pflegehinweise und Reinigung Dieses eintägige Training vermittelt Ihnen einen guten Einblick zum Thema Gebäude Window Film sowie Sicherheits- und Splitterschutzfolie. https://www.werbetechniker-akademie.cc/eventer/flachglas-schulung-de/
URL:https://www.werbetechniker-akademie.cc/eventer/flachglas-schulung-de/
END:VEVENT
END:VCALENDAR
