BEGIN:VCALENDAR
VERSION:2.0
PRODID:Imitheme.com
BEGIN:VEVENT
UID:20260420T133216-2038624275
DTSTAMP;TZID=UTC:1776691936
DTSTART;TZID=America/Los_Angeles:20260420T133216
DTEND;TZID=America/Los_Angeles:20260420T133216
SUMMARY:Starterkit Stickerei - DE
LOCATION:
DESCRIPTION: Erfolgreich mit Garnen, Nadeln und Maschine arbeiten Sticken ist einfach – heißt es oft! Doch die Stolpersteine erkennen die Anwender meistens erst ein paar Monate nach dem Einstieg in die maschinelle Arbeit mit Faden und Nadel. Und dann ist guter Rat teuer: Maschine wieder verkaufen? Oder Durchbeißen! Früher lag dem Handwerk der Maschinenstickerei eine dreijährige Berufsausbildung zugrunde. Unser Seminarleiter Dennis Ermert gehört als Absolvent einer dreijährigen Textiltechnikerausbildung mit anschließender Meisterklasse für Maschinenstickerei zu den wenigen Profis seines Fachs hierzulande. Im Seminar „Starterkit Stickerei“ vermittelt er Anfängern und Einsteigern sein Fachwissen. Er hilft, kostspielige Fehler beim Aufbau eines eigenes Stickereigeschäfts von vornherein zu vermeiden. Und er führt in die Grundlagen von Garnen, Nadeln, Vliesen, Maschine und Fadenspannung ein. Ort: Walz Solutions / ZSK Stickmaschinen, Krefeld Magdeburger Str. 38-40 47800 Krefeld Deutschland https://www.werbetechniker-akademie.cc/eventer/starterkit-stickerei-de/
URL:https://www.werbetechniker-akademie.cc/eventer/starterkit-stickerei-de/
END:VEVENT
END:VCALENDAR
