BEGIN:VCALENDAR
VERSION:2.0
PRODID:Imitheme.com
BEGIN:VEVENT
UID:20260420T145802-995733214
DTSTAMP;TZID=UTC:1776697082
DTSTART;TZID=America/Los_Angeles:20260420T145802
DTEND;TZID=America/Los_Angeles:20260420T145802
SUMMARY:Effizienz in der Stickerei - DE
LOCATION:
DESCRIPTION: Damit sich die Veredlung rechnet Eine Stickmaschine ist schnell gekauft. Und dann ist guter Rat oft teuer. Lohnt sich die Stickerei wirklich? Wie kalkuliere ich meine Kosten und die Stickereipreise? Wie kann ich die Stickereiprozesse effizient gestalten? Und soll ich auch noch selbst punchen? Gerade in Zeiten von hohen Energiekosten, steigenden Betriebskosten und Fachkräftemangel stellen sich Textilveredlungsbetriebe die Frage nach der Rentabilität. Der Seminartag „Effizienz in der Stickerei“ zeigt Lösungen auf, mit deren Hilfe sich Stickereiprozesse optimieren lassen. Die Seminarteilnehmer werden ermutigt, die Struktur und Organisation des eigenen Veredlungsbetriebes kritisch zu hinterfragen. Gleichzeitig geben die Referierenden Tipps, wie die kaufmännischen und betrieblichen Prozesse selbst in kleinen Stickereien – ohne große Kosten – optimiert und die Potenziale bestmöglich ausgeschöpft werden können. Die Veranstaltung richtet sich an Unternehmen, die die Investition in die Stickerei als weiteres Standbein überlegen, sowie an Betriebe, die bestehende Prozesse kritisch hinterfragen und optimieren wollen. Darüber hinaus erhalten Ein- und Verkäufer aus dem Textilhandel Einblicke in Funktionsweisen und Kosten von hochwertiger Stickerei.    Ort: New Wave Logistikzentrum Geiselwind Am Weingarten 7 96160 Geiselwind Deutschland https://www.werbetechniker-akademie.cc/eventer/effizienz-in-der-stickerei-de/
URL:https://www.werbetechniker-akademie.cc/eventer/effizienz-in-der-stickerei-de/
END:VEVENT
END:VCALENDAR
