BEGIN:VCALENDAR
VERSION:2.0
PRODID:Imitheme.com
BEGIN:VEVENT
UID:20260420T163318-558645510
DTSTAMP;TZID=UTC:1776702798
DTSTART;TZID=America/Los_Angeles:20260420T163318
DTEND;TZID=America/Los_Angeles:20260420T163318
SUMMARY:Punchen – die Basics - AT
LOCATION:
DESCRIPTION: Grundkenntnisse der Stickmustergestaltung Gutes Punchen – das Digitalisieren von Stickdesigns – ist die Basis einer guten Stickerei. Hierfür erlernen die Teilnehmerinnen und Teilnehmer des eintägigen Seminars die Grundregeln des Punchens. Dazu zählen die Grundsticharten, die Vorbereitung von Vorlagen, die verschiedenen Arten von Unterlegern, die Kenntnis über Punchdaten und Maschinenformate, die Stichdichte und Garnstärken, Stichrichtungen und der effiziente Aufbau eines Stickmusters. Darüber hinaus berücksichtigt der Seminarleiter auch die Parameter in Bezug auf verschiedene Materialien wie Stoffe und Garne, die Einfluss nehmen auf das Erstellen von Stickdaten. Ort: GWS Salzburg Warwitzstraße 9 5023 Salzburg Österreich https://www.werbetechniker-akademie.cc/eventer/punchen-die-basics-at/
URL:https://www.werbetechniker-akademie.cc/eventer/punchen-die-basics-at/
END:VEVENT
END:VCALENDAR
