BEGIN:VCALENDAR
VERSION:2.0
PRODID:Imitheme.com
BEGIN:VEVENT
UID:20260420T012020-1811291565
DTSTAMP;TZID=UTC:1776648020
DTSTART;TZID=America/Los_Angeles:20260420T012020
DTEND;TZID=America/Los_Angeles:20260420T012020
SUMMARY:2 Tage – CarWrap Schulung „Basic“
LOCATION:
DESCRIPTION: Sie erlernen in diesem Kurs die Grundlagen der Verklebe-Technik und bekommen detaillierte Informationen zu Räumlichkeiten, Temperatur und Vorbereitung. Kursinhalt: - Material und Werkzeuge - richtig schneiden Kniffless/Lack - Sicken reklamationsfrei kleben - erste 3D-Folierungen - Basic Car Wrap Zertifikat Kurskosten sind inkl. Verpflegung! Dauer: 2 Tage Teilnehmerzahl: maximal 6 Teilnehmer Veranstaltungsort: Druckzentrum Regler GmbH Jahnstr.7 92665Altenstadt www.regler-druckzentrum.de Bitte bringen Sie Ihr Werkzeug mit https://www.werbetechniker-akademie.cc/eventer/2-tage-carwrap-schulung-basic/
URL:https://www.werbetechniker-akademie.cc/eventer/2-tage-carwrap-schulung-basic/
END:VEVENT
END:VCALENDAR
