BEGIN:VCALENDAR
VERSION:2.0
PRODID:Imitheme.com
BEGIN:VEVENT
UID:20260420T180215-154252763
DTSTAMP;TZID=UTC:1776708135
DTSTART;TZID=America/Los_Angeles:20260420T180215
DTEND;TZID=America/Los_Angeles:20260420T180215
SUMMARY:Alles über Stickmaterialien - AT
LOCATION:
DESCRIPTION: Das Seminar \"Alles über Stickmaterialien\" vermittelt dem Einsteiger und Neuling in der industriellen Stickerei, aber auch Designern, Beratern und Einkäufern der Textilindustrie, einen umfassenden Überblick über das Handwerk der Textildekoration. Der Referent, selbst Stickerei-Profi seit mehr als 40 Jahren, zeigt, auf welche Parameter es in der Stickerei ankommt und welchen Einfluss sie jeweils auf ein gutes Stickergebnis haben. Dabei werden Ober- und Untergarne, Nadeln, Vliese, Stickmuster, Folien und die Maschine unter die Lupe genommen. Die Seminarteilnehmer lernen, wie sie bei einem perfekten Zusammenspiel aller Faktoren zu hochwertigen Stickergebnissen kommen. Ort: Stickmaschinen.org Reklewskigasse 19A/5 1230 Wien Österreich https://www.werbetechniker-akademie.cc/eventer/alles-ueber-stickmaterialien-at/
URL:https://www.werbetechniker-akademie.cc/eventer/alles-ueber-stickmaterialien-at/
END:VEVENT
END:VCALENDAR
