BEGIN:VCALENDAR
VERSION:2.0
PRODID:Imitheme.com
BEGIN:VEVENT
UID:20260420T125811-1066859123
DTSTAMP;TZID=UTC:1776689891
DTSTART;TZID=America/Los_Angeles:20260420T125811
DTEND;TZID=America/Los_Angeles:20260420T125811
SUMMARY:Verkaufstraining
LOCATION:
DESCRIPTION: Die besten Mitarbeiter, Verkäufer und Talente finden und binden Wer heute starke und erfolgreiche Mitarbeiter sucht, steht vor einer großen Herausforderung. Gute Mitarbeiter sind meist in einer festen Anstellung oder in einem HGB-Partnerverhältnis und werden von ihrem gegenwärtigen Arbeitgeber oft mit attraktiven Konditionen im Unternehmen gehalten. Das Recruiting von Top-Mitarbeitern ist selbst zu einer anspruchsvollen Verkaufsaufgabe geworden. Erfahren Sie im Vortrag mit André May, anhand vieler Beispiele aus der Praxis, wie Sie die besten Mitarbeiter, Verkäufer und Talente am Markt akquirieren. Den Erfolg verdoppeln Jedes Verkaufstraining wird individuell für Ihr Unternehmen konzipiert und am entsprechenden Bedarf ausgerichtet. Am Ende der Trainingseinheit steht eine klare Leistungssteigerung Ihrer Verkäufer. Garantiert! Die besten Mitarbeiter finden André May zeigt Führungskräften, Personalern und Geschäftsführern einen roten Faden für die erfolgreiche Gewinnung, gezielte Auswahl und langfristige Bindung der besten Mitarbeiter und Talente auf. Ort: Seehaus im Englischen Garten Kleinhesselohe 3 80802 München mehr Infos zum Speaker: https://andremay.de/ https://www.werbetechniker-akademie.cc/eventer/verkaufstraining/
URL:https://www.werbetechniker-akademie.cc/eventer/verkaufstraining/
END:VEVENT
END:VCALENDAR
