BEGIN:VCALENDAR
VERSION:2.0
PRODID:Imitheme.com
BEGIN:VEVENT
UID:20260420T121052-1038624921
DTSTAMP;TZID=UTC:1776687052
DTSTART;TZID=America/Los_Angeles:20260420T121052
DTEND;TZID=America/Los_Angeles:20260420T121052
SUMMARY:Farbseparation im Siebdruck - DE
LOCATION:
DESCRIPTION: Ein intensiver Praxisworkshop vom Profi für Fortgeschrittene Professioneller, hochwertiger Siebdruck beginnt beim Design. Ein Druckmotiv besteht aus unzähligen Farben, die für den Siebdruck auf eine begrenzte Zahl heruntergebrochen werden müssen. Es erfordert ein spezielles Fachwissen, einen Farbsatz mit vorhersagbarer Qualität zu reproduzieren. Die Seminarteilnehmer sollten bereits Erfahrung haben, wie Farbseparationen mit Adobe Photoshop durchgeführt werden. Der Separations- und Siebdruckspezialist Sándor Milos vertieft die Kenntnisse und vermittelt sein Expertenwissen, um Druckergebnisse in Abstimmung auf Druckfarben und Bedruckstoffe zu optimieren. Voraussetzung für Ihre Teilnahme • Sie haben bereits Erfahrung in Farbseparationen, wollen aber Ihr Wissen vertiefen • Sie beherrschen die Software Adobe Photoshop • Sie bringen Ihren eigenen Laptop mit der Software Adobe Photoshop (Version CS2 oder höher) zum Seminar mit. Der Workshop findet nur statt bei min. 5 Teilnehmenden Ort: HTW Hochschule für Technik und Wirtschaft Berlin Wilhelminenhofstraße 75A 12459 Berlin Deutschland Preis inkl. Lunch, Snacks, Getränke, Teilnahmebestätigung, exklusives Networking https://www.werbetechniker-akademie.cc/eventer/farbseparation-im-siebdruck-de/
URL:https://www.werbetechniker-akademie.cc/eventer/farbseparation-im-siebdruck-de/
END:VEVENT
END:VCALENDAR
